BEGIN:VCALENDAR
VERSION:2.0
PRODID:-//ÖNG - Österreichische Namibia-Gesellschaft - ECPv6.15.20//NONSGML v1.0//EN
CALSCALE:GREGORIAN
METHOD:PUBLISH
X-WR-CALNAME:ÖNG - Österreichische Namibia-Gesellschaft
X-ORIGINAL-URL:https://oeng.org
X-WR-CALDESC:Veranstaltungen für ÖNG - Österreichische Namibia-Gesellschaft
REFRESH-INTERVAL;VALUE=DURATION:PT1H
X-Robots-Tag:noindex
X-PUBLISHED-TTL:PT1H
BEGIN:VTIMEZONE
TZID:UTC
BEGIN:STANDARD
TZOFFSETFROM:+0000
TZOFFSETTO:+0000
TZNAME:UTC
DTSTART:20250101T000000
END:STANDARD
END:VTIMEZONE
BEGIN:VEVENT
DTSTART;TZID=UTC:20260507T180000
DTEND;TZID=UTC:20260507T200000
DTSTAMP:20260424T135702
CREATED:20260420T083223Z
LAST-MODIFIED:20260420T083223Z
UID:85825-1778176800-1778184000@oeng.org
SUMMARY:Faire Wirtschaftspartnerschaften schaffen - Österreichs Afrika-Strategie im Fokus Podiumsdiskussion
DESCRIPTION:
URL:https://oeng.org/event/faire-wirtschaftspartnerschaften-schaffen-oesterreichs-afrika-strategie-im-fokus-podiumsdiskussion/
LOCATION:Diplomatische Akademie Wien\, Favoritenstraße 15a\, Wien\, Wien\, 1040\, Austria
END:VEVENT
END:VCALENDAR